BEGIN:VCALENDAR
VERSION:2.0
PRODID:-//RIGHTHERE//CALENDARIZE IT V3.2//EN
BEGIN:VEVENT
UID:7958-events@careersourcencfl.com
DTSTART:20260428T090000Z
DTEND:20260428T140000Z
DTSTAMP:20260409T213819Z
SUMMARY:Alachua County Sheriff’s Office Job Fair
URL:https://careersourcencfl.com/events/alachua-county-sheriffs-office-job-
 fair/
LOCATION:2621 SE Hawthorne Rd\, Gainesville\, FL 32641
END:VEVENT
END:VCALENDAR