BEGIN:VCALENDAR
VERSION:2.0
PRODID:-//RIGHTHERE//CALENDARIZE IT V3.2//EN
BEGIN:VEVENT
UID:7121-events@careersourcencfl.com
DTSTART:20260422T110000Z
DTEND:20260422T120000Z
DTSTAMP:20260116T160111Z
SUMMARY:CANCELED CSNCFL Youth Committee Meeting
URL:https://careersourcencfl.com/events/csncfl-youth-committee-meeting-3/
LOCATION:CareerSource North Central Florida 1112 N Main St\, Gainesville\, 
 FL 32601
END:VEVENT
END:VCALENDAR